BEGIN:VCALENDAR
VERSION:2.0
CALSCALE:GREGORIAN
PRODID:adamgibbons/ics
METHOD:PUBLISH
X-PUBLISHED-TTL:PT1H
BEGIN:VEVENT
UID:9521@calendari.cc
SUMMARY:Kafeta Benefit "Brigadas Callejeras"
DTSTAMP:20260421T124100Z
DTSTART:20260423T163000Z
URL:https://calendari.cc/event/kafeta-benefit-brigadas-callejeras
GEO:41.4102;2.18344
LOCATION:CSOA La Revoltosa - 82\, Carrer de Rogent\, el Camp de l'Arpa del 
	Clot\, Barcelona\, 08026
STATUS:CONFIRMED
CATEGORIES:Clot,el Clot,internacionalisme,kafeta,México,Salud comunitaria,t
	rabajo sexual
END:VEVENT
BEGIN:VEVENT
UID:9513@calendari.cc
SUMMARY:Presentación del libro 'Putas rebeldes'
DTSTAMP:20260421T124100Z
DTSTART:20260429T170000Z
URL:https://calendari.cc/event/presentacion-del-libro-putas-rebeldes
LOCATION:Librería Mary Read - C. del Marqués de Toca\, 3\, Centro\, 28012 M
	adrid
STATUS:CONFIRMED
CATEGORIES:historia,Madrid,PResentación de libro,trabajo sexual
END:VEVENT
END:VCALENDAR
